BEGIN:VCALENDAR
VERSION:2.0
PRODID:-//CareerSource NEFL - ECPv6.15.20//NONSGML v1.0//EN
CALSCALE:GREGORIAN
METHOD:PUBLISH
X-ORIGINAL-URL:https://careersourcenortheastflorida.com
X-WR-CALDESC:Events for CareerSource NEFL
REFRESH-INTERVAL;VALUE=DURATION:PT1H
X-Robots-Tag:noindex
X-PUBLISHED-TTL:PT1H
BEGIN:VTIMEZONE
TZID:America/New_York
BEGIN:DAYLIGHT
TZOFFSETFROM:-0500
TZOFFSETTO:-0400
TZNAME:EDT
DTSTART:20250309T070000
END:DAYLIGHT
BEGIN:STANDARD
TZOFFSETFROM:-0400
TZOFFSETTO:-0500
TZNAME:EST
DTSTART:20251102T060000
END:STANDARD
BEGIN:DAYLIGHT
TZOFFSETFROM:-0500
TZOFFSETTO:-0400
TZNAME:EDT
DTSTART:20260308T070000
END:DAYLIGHT
BEGIN:STANDARD
TZOFFSETFROM:-0400
TZOFFSETTO:-0500
TZNAME:EST
DTSTART:20261101T060000
END:STANDARD
BEGIN:DAYLIGHT
TZOFFSETFROM:-0500
TZOFFSETTO:-0400
TZNAME:EDT
DTSTART:20270314T070000
END:DAYLIGHT
BEGIN:STANDARD
TZOFFSETFROM:-0400
TZOFFSETTO:-0500
TZNAME:EST
DTSTART:20271107T060000
END:STANDARD
END:VTIMEZONE
BEGIN:VEVENT
DTSTART;TZID=America/New_York:20260427T100000
DTEND;TZID=America/New_York:20260427T130000
DTSTAMP:20260425T115654
CREATED:20260316T155632Z
LAST-MODIFIED:20260316T155634Z
UID:34516-1777284000-1777294800@careersourcenortheastflorida.com
SUMMARY:Military Spouse Monday – CSNEFL St. Johns Co. Career Center
DESCRIPTION:CareerSource NEFL Military Spouse Family Employment Advocate\nPresents: Military Spouse Monday \nA social event for Military Spouse to educate and support Military Spouses and dependents as they explore and further understand themselves and career options\, gain valuable information\, develop as professionals\, and launch their career plan. \nBy using our expertise\, experience\, and resources we will build relationships with military spouses and dependents by providing mutual support and helping them to build careers that lead to self-sufficiency\, by addressing significant barriers to employment and success stories. \nContact: Cecil Love at 904-924-1710 ext. 2444 or via email: clove@careersourcenefl.com \nMilitary Spouse Mondays April 2026
URL:https://careersourcenortheastflorida.com/event/military-spouse-monday-csnefl-st-johns-co-career-center/
LOCATION:CareerSource NEFL St. Johns County Career Center\, 525 State Road 16\, Suite 109\, St. Augustine\, FL\, 32084\, United States
CATEGORIES:CSNEFL Hosted Event,Job Seeker Event/Resources
ATTACH;FMTTYPE=image/png:https://careersourcenortheastflorida.com/wp-content/uploads/2026/03/Military-Spouse-Family-Employment-Advocate-3.png
END:VEVENT
BEGIN:VEVENT
DTSTART;TZID=America/New_York:20260429T100000
DTEND;TZID=America/New_York:20260429T120000
DTSTAMP:20260425T115654
CREATED:20260407T162020Z
LAST-MODIFIED:20260421T195421Z
UID:34739-1777456800-1777464000@careersourcenortheastflorida.com
SUMMARY:Apprenticeship/Earn-As-You-Learn Recruitment Wednesday at CSNEFL Southside Career Center
DESCRIPTION:Join Us this Wednesday for the Apprenticeship/Earn-As-You-Learn Recruitment Wednesday.\nRecruitment event\, where you can connect with employers from across Northeast Florida who are eager to discover your potential.\nCareerSource NEFL offers one-on-one resume reviews during our Recruitment Wednesdays event! 🎯 \n📄 Bring your resume\, and let us help you polish it for success. Partner with CareerSource NEFL and take the next step in your job search today! \nOpen to all.  Veterans are encouraged to attend.  \nJob seekers can call for more information:  (904) 997-3100 \nEmployers – if you would like to to learn more\, reserve your spot or connect with a Business Services representative click here: qr.codes/zJ7Dex \nEmployers are actively hiring—explore a sample of available positions below. To discuss all open opportunities and a chance to connect directly with employers\, join us at the event! \nA/C Designs \nHVAC 4-year apprenticeship\nEF Job Order #12530836 Residential HVAC Service Technician \nBetros Plumbing Contractors\nPlumbing Apprentice – Commercial Construction\nEF Job Order #12530824 – Plumbing Apprentice Commercial Construction \nElectrical Training Alliance \nElectrician 4-year apprenticeship\nEF Job Order #12528768 Electrical Apprenticeship \nProsperity Childcare \nChildcare Apprenticeship\nEF Job Order #1253021 Early Childhood Education Apprentice \nParticipating resource:\nApprentice Florida
URL:https://careersourcenortheastflorida.com/event/apprenticeship-earn-as-you-learn-recruitment-wednesday-at-csnefl-southside-career-center/
LOCATION:CareerSource NEFL Southside Career Center\, 11268 Beach Blvd.\, Jacksonville\, FL\, 32246\, United States
CATEGORIES:Community and Hiring Events,CSNEFL Hosted Event,Job Seeker Event/Resources,Multi Employer Event,Recruitment Wednesdays - Southside Career Center
ATTACH;FMTTYPE=image/png:https://careersourcenortheastflorida.com/wp-content/uploads/2026/04/National_ApprenticeshipWeek_Logo_20260325-1.png
END:VEVENT
BEGIN:VEVENT
DTSTART;TZID=America/New_York:20260429T100000
DTEND;TZID=America/New_York:20260429T130000
DTSTAMP:20260425T115654
CREATED:20260317T122737Z
LAST-MODIFIED:20260422T151421Z
UID:34523-1777456800-1777467600@careersourcenortheastflorida.com
SUMMARY:Second Chance Job Fair at FSCJ
DESCRIPTION:Connecting returning citizens with employment opportunities. Interview for open jobs with multiple employers at one location. \nOpen to All Jobseekers \nMore Information & Registration qr.fm/7l4qmh \n2nd Chance Job Seeker Flyer 4.29.26  \n 
URL:https://careersourcenortheastflorida.com/event/second-chance-job-fair-2/
LOCATION:FSCJ Advanced Technology Center Downtown\, 101 West State St.\,\, Jacksonville\, Florida\, 32202
CATEGORIES:Community and Hiring Events,Job Seeker Event/Resources,Multi Employer Event
END:VEVENT
BEGIN:VEVENT
DTSTART;TZID=America/New_York:20260429T100000
DTEND;TZID=America/New_York:20260429T130000
DTSTAMP:20260425T115654
CREATED:20260326T170947Z
LAST-MODIFIED:20260413T195226Z
UID:34609-1777456800-1777467600@careersourcenortheastflorida.com
SUMMARY:CareerSource NEFL Mobile Access Points Team at Second Chance Job Fair
DESCRIPTION:Connecting returning citizens with employment opportunities. Interview for open jobs with multiple employers at one location. \nOpen to All Jobseekers \nThe CareerSource Northeast Florida Mobile Access Points (MAP) Team will be available to assist with your job search needs. \nOur team can help you prepare for upcoming hiring events by providing guidance and resources to support your success. \nCareer seekers are required to create a profile at www.employflorida.com prior to receiving services. \nCareerSource NEFL Mobile Access Points (MAP) are an extension of our career centers\, offering access to laptops\, wireless internet\, and knowledgeable staff. Services include resume assistance\, employer search support\, and occasional workshops focused on a variety of work-readiness topics. \nMore Information & Registration qr.fm/7l4qmh \n2nd Chance Job Seeker Flyer 4.29.26
URL:https://careersourcenortheastflorida.com/event/careersource-nefl-mobile-access-points-team-at-second-chance-job-fair-2/
LOCATION:FSCJ Advanced Technology Center Downtown\, 101 West State St.\,\, Jacksonville\, Florida\, 32202
CATEGORIES:Community and Hiring Events,CSNEFL Hosted Event,Job Seeker Event/Resources,Mobile Access Points,Multi Employer Event
ATTACH;FMTTYPE=image/jpeg:https://careersourcenortheastflorida.com/wp-content/uploads/2021/03/map-header.jpg
END:VEVENT
BEGIN:VEVENT
DTSTART;TZID=America/New_York:20260430T100000
DTEND;TZID=America/New_York:20260430T130000
DTSTAMP:20260425T115654
CREATED:20260330T124350Z
LAST-MODIFIED:20260330T124350Z
UID:34634-1777543200-1777554000@careersourcenortheastflorida.com
SUMMARY:Better Together Job Fair Jacksonville\, FL - hosted by Gardenview Baptist Church
DESCRIPTION:Are you looking for a new job? \nWe have good news! There is a Nationwide Day of Second Chances job fair planned for YOU on April 30 in Jacksonville\, FL. \n(Job seekers and employers\, register below.) \nOur second chance job fair lifts up job seekers who face barriers to employment\, including past incarceration\, gaps in employment\, and lack of resources. This job fair will be unique and embodies a culture of celebration. \nWe focus on your potential—not your past. You’ll meet employers who know the value of returning citizens and others with barriers to employment. \nDon’t have child care? Bring the kids. \nDon’t have the right outfit? Come as you are. \nFree job coaching and resources will be available to help you make a fresh start. \nGet face-to-face interviews with hiring managers from reputable companies and resources to help you further your career. \nPRO TIP: Submit applications in advance to free your time at the fair to talk with employers and leave a good impression. \nYour new job is waiting for you!
URL:https://careersourcenortheastflorida.com/event/better-together-job-fair-jacksonville-fl-hosted-by-gardenview-baptist-church/
LOCATION:Gardenview Baptist Church\, 3139 Armsdale Rd\, Jacksonville\, FL\, 32218\, United States
CATEGORIES:Community and Hiring Events,Job Seeker Event/Resources,Multi Employer Event
END:VEVENT
BEGIN:VEVENT
DTSTART;TZID=America/New_York:20260430T100000
DTEND;TZID=America/New_York:20260430T140000
DTSTAMP:20260425T115654
CREATED:20260326T171303Z
LAST-MODIFIED:20260326T171305Z
UID:34610-1777543200-1777557600@careersourcenortheastflorida.com
SUMMARY:CareerSource NEFL Mobile Access Points Team at Jax News Job Fair
DESCRIPTION:The CareerSource Northeast Florida Mobile Access Points (MAP) Team will be available to assist with your job search needs. \nOur team can help you prepare for upcoming hiring events by providing guidance and resources to support your success. \nCareer seekers are required to create a profile at www.employflorida.com prior to receiving services. \nCareerSource NEFL Mobile Access Points (MAP) are an extension of our career centers\, offering access to laptops\, wireless internet\, and knowledgeable staff. Services include resume assistance\, employer search support\, and occasional workshops focused on a variety of work-readiness topics.
URL:https://careersourcenortheastflorida.com/event/careersource-nefl-mobile-access-points-team-at-jax-news-job-fair/
LOCATION:DoubleTree Riverfront\, 1201 Riverplace Blvd\, Jacksonville\, FL\, 32207\, United States
CATEGORIES:Community and Hiring Events,CSNEFL Hosted Event,Job Seeker Event/Resources,Mobile Access Points,Multi Employer Event
ATTACH;FMTTYPE=image/jpeg:https://careersourcenortheastflorida.com/wp-content/uploads/2021/03/map-header.jpg
END:VEVENT
BEGIN:VEVENT
DTSTART;TZID=America/New_York:20260430T100000
DTEND;TZID=America/New_York:20260430T140000
DTSTAMP:20260425T115654
CREATED:20260414T151044Z
LAST-MODIFIED:20260415T125329Z
UID:34782-1777543200-1777557600@careersourcenortheastflorida.com
SUMMARY:Job News Jacksonville Job Fair
DESCRIPTION:Discover new career possibilities at the Job News Jacksonville Job Fair! It’s not just about getting a job\, it’s about landing the right job. With multiple industries represented at the hiring event\, you’ll have the unique opportunity to explore different career paths you may not have considered before. Diversify your skill set and open doors you never knew existed! \nEmployers: 104.5 WOKV – Jacksonville’s News & Talk\, Allied Universal\, CareerSource Northeast Florida\, City of Jacksonville\, CNS Healthcare\, Copeland Insurance Group/Avid Financial\, Cox Media Group\, Dedicated Senior Medical Center – A ChenMed Company\, Elo Restoration\, ESPN – Jacksonville (690 AM)\, Florida Army National Guard\, Globe Life – Liberty National Division\, HOLA News\, Jacksonville Transportation Authority\, Kaliente – 94.1 & 97.3\, Logistic Services International\, Maxim Healthcare Services\, Navy Exchange Service Command\, Norsan Media\, Pinellas County Sheriff’s Office\, RadiFi Credit Union\, SAFE Inc.\, Sevita Health\, Star V Learning Centers\, State Securities Corp.\, and more… \n✔ Free admission and parking\n✔ Bring multiple copies of your resume\n✔ Dress professionally – first impressions count! \nFor more information\, call (904) 296-3006.
URL:https://careersourcenortheastflorida.com/event/job-news-jacksonville-job-fair-2/
LOCATION:DoubleTree by Hilton Hotel Jacksonville Riverfront\, 1201 Riverplace Boulevard\, Jacksonville\, FL\, 32207\, United States
CATEGORIES:Community and Hiring Events,Multi Employer Event,Networking Events
ATTACH;FMTTYPE=image/jpeg:https://careersourcenortheastflorida.com/wp-content/uploads/2025/01/JobNews-Jacksonville.com-flyer-e1741610791291.jpg
END:VEVENT
END:VCALENDAR