BEGIN:VCALENDAR
VERSION:2.0
PRODID:-//CareerSource NEFL - ECPv6.15.20//NONSGML v1.0//EN
CALSCALE:GREGORIAN
METHOD:PUBLISH
X-ORIGINAL-URL:https://careersourcenortheastflorida.com
X-WR-CALDESC:Events for CareerSource NEFL
REFRESH-INTERVAL;VALUE=DURATION:PT1H
X-Robots-Tag:noindex
X-PUBLISHED-TTL:PT1H
BEGIN:VTIMEZONE
TZID:America/New_York
BEGIN:DAYLIGHT
TZOFFSETFROM:-0500
TZOFFSETTO:-0400
TZNAME:EDT
DTSTART:20250309T070000
END:DAYLIGHT
BEGIN:STANDARD
TZOFFSETFROM:-0400
TZOFFSETTO:-0500
TZNAME:EST
DTSTART:20251102T060000
END:STANDARD
BEGIN:DAYLIGHT
TZOFFSETFROM:-0500
TZOFFSETTO:-0400
TZNAME:EDT
DTSTART:20260308T070000
END:DAYLIGHT
BEGIN:STANDARD
TZOFFSETFROM:-0400
TZOFFSETTO:-0500
TZNAME:EST
DTSTART:20261101T060000
END:STANDARD
BEGIN:DAYLIGHT
TZOFFSETFROM:-0500
TZOFFSETTO:-0400
TZNAME:EDT
DTSTART:20270314T070000
END:DAYLIGHT
BEGIN:STANDARD
TZOFFSETFROM:-0400
TZOFFSETTO:-0500
TZNAME:EST
DTSTART:20271107T060000
END:STANDARD
END:VTIMEZONE
BEGIN:VEVENT
DTSTART;TZID=America/New_York:20260306T100000
DTEND;TZID=America/New_York:20260306T150000
DTSTAMP:20260421T071252
CREATED:20260303T193802Z
LAST-MODIFIED:20260303T193806Z
UID:34438-1772791200-1772809200@careersourcenortheastflorida.com
SUMMARY:CareerSource NEFL Mobile Access Points Team at Webb Wesconnett Library
DESCRIPTION:The CareerSource Northeast Florida Mobile Access Points (MAP) Team will be available to assist with your job search needs. \nOur team can help you prepare for upcoming hiring events by providing guidance and resources to support your success. \nCareer seekers are required to create a profile at www.employflorida.com prior to receiving services. \nCareerSource NEFL Mobile Access Points (MAP) are an extension of our career centers\, offering access to laptops\, wireless internet\, and knowledgeable staff. Services include resume assistance\, employer search support\, and occasional workshops focused on a variety of work-readiness topics.
URL:https://careersourcenortheastflorida.com/event/careersource-nefl-mobile-access-points-team-at-webb-wesconnett-library-5/
LOCATION:Webb Wesconnectt Library\, 6887 103rd St\,\, Jacksonville\, Florida\, 32210
CATEGORIES:CSNEFL Holidays,Job Seeker Event/Resources,Mobile Access Points
ATTACH;FMTTYPE=image/jpeg:https://careersourcenortheastflorida.com/wp-content/uploads/2021/03/map-header.jpg
END:VEVENT
BEGIN:VEVENT
DTSTART;TZID=America/New_York:20260312T100000
DTEND;TZID=America/New_York:20260312T140000
DTSTAMP:20260421T071252
CREATED:20260303T194242Z
LAST-MODIFIED:20260306T152551Z
UID:34440-1773309600-1773324000@careersourcenortheastflorida.com
SUMMARY:CareerSource NEFL Mobile Access Points Team at Ponte Vedra Beach Library
DESCRIPTION:The CareerSource Northeast Florida Mobile Access Points (MAP) Team will be available to assist with your job search needs. \nOur team can help you prepare for upcoming hiring events by providing guidance and resources to support your success. \nCareer seekers are required to create a profile at www.employflorida.com prior to receiving services. \nCareerSource NEFL Mobile Access Points (MAP) are an extension of our career centers\, offering access to laptops\, wireless internet\, and knowledgeable staff. Services include resume assistance\, employer search support\, and occasional workshops focused on a variety of work-readiness topics.
URL:https://careersourcenortheastflorida.com/event/careersource-nefl-mobile-access-points-team-at-ponte-vedra-beach-libary-2/
LOCATION:Ponte Vedra Beach Branch Library\, 101 Library Blvd\, Ponte Vedra Beach\, FL\, 32082
CATEGORIES:CSNEFL Holidays,Job Seeker Event/Resources,Mobile Access Points
ATTACH;FMTTYPE=image/jpeg:https://careersourcenortheastflorida.com/wp-content/uploads/2021/03/map-header.jpg
END:VEVENT
END:VCALENDAR