BEGIN:VCALENDAR
VERSION:2.0
PRODID:-//CareerSource NEFL - ECPv6.15.20//NONSGML v1.0//EN
CALSCALE:GREGORIAN
METHOD:PUBLISH
X-ORIGINAL-URL:https://careersourcenortheastflorida.com
X-WR-CALDESC:Events for CareerSource NEFL
REFRESH-INTERVAL;VALUE=DURATION:PT1H
X-Robots-Tag:noindex
X-PUBLISHED-TTL:PT1H
BEGIN:VTIMEZONE
TZID:America/New_York
BEGIN:DAYLIGHT
TZOFFSETFROM:-0500
TZOFFSETTO:-0400
TZNAME:EDT
DTSTART:20240310T070000
END:DAYLIGHT
BEGIN:STANDARD
TZOFFSETFROM:-0400
TZOFFSETTO:-0500
TZNAME:EST
DTSTART:20241103T060000
END:STANDARD
BEGIN:DAYLIGHT
TZOFFSETFROM:-0500
TZOFFSETTO:-0400
TZNAME:EDT
DTSTART:20250309T070000
END:DAYLIGHT
BEGIN:STANDARD
TZOFFSETFROM:-0400
TZOFFSETTO:-0500
TZNAME:EST
DTSTART:20251102T060000
END:STANDARD
BEGIN:DAYLIGHT
TZOFFSETFROM:-0500
TZOFFSETTO:-0400
TZNAME:EDT
DTSTART:20260308T070000
END:DAYLIGHT
BEGIN:STANDARD
TZOFFSETFROM:-0400
TZOFFSETTO:-0500
TZNAME:EST
DTSTART:20261101T060000
END:STANDARD
END:VTIMEZONE
BEGIN:VEVENT
DTSTART;TZID=America/New_York:20250203T100000
DTEND;TZID=America/New_York:20250203T130000
DTSTAMP:20260420T083008
CREATED:20250114T192650Z
LAST-MODIFIED:20250114T194245Z
UID:31820-1738576800-1738587600@careersourcenortheastflorida.com
SUMMARY:Military Spouse Monday at CareerSource NEFL St. Johns County Career Center
DESCRIPTION:CareerSource NEFL Military Spouse Family Employment Advocate\nPresents: Military Spouse Monday \nA social event for Military Spouse to educate and support Military Spouses and dependents as they explore and further understand themselves and career options\, gain valuable information\, develop as professionals\, and launch their career plan.   \nBy using our expertise\, experience\, and resources we will build relationships with military spouses and dependents by providing mutual support and helping them to build careers that lead to self-sufficiency\, by addressing significant barriers to employment and success stories. \nContact: Cecil Love at 904-924-1710 ext. 2444 or via email: clove@careersourcenefl.com \nMilitary Spouse Mondays February 2025 \n 
URL:https://careersourcenortheastflorida.com/event/military-spouse-monday-at-careersource-nefl-st-johns-county-career-center-4/
LOCATION:CareerSource NEFL St. Johns County Career Center\, 525 State Road 16\, Suite 109\, St. Augustine\, FL\, 32084\, United States
CATEGORIES:CSNEFL Hosted Event,Job Seeker Event/Resources,Job Skills & Workshops
ATTACH;FMTTYPE=image/png:https://careersourcenortheastflorida.com/wp-content/uploads/2024/01/Military-Spouse-Monday-banner.png
END:VEVENT
BEGIN:VEVENT
DTSTART;TZID=America/New_York:20250204T100000
DTEND;TZID=America/New_York:20250204T150000
DTSTAMP:20260420T083008
CREATED:20250109T193531Z
LAST-MODIFIED:20250109T203804Z
UID:31771-1738663200-1738681200@careersourcenortheastflorida.com
SUMMARY:CSNEFL Military Spouse Family Employment Advocate
DESCRIPTION:Join the CareerSource Northeast Florida Military Spouse Family Employment Advocate for a chat. \nTopic: Access to information about federal programs for family support \nContact Cecil Love 904-924-1710 ext.2444 or via email: clove@careersourcenefl.com \nLocation: Naval Air Station Yorktown Ave\, Bldg. 13 Classroom Jacksonville\, FL 32212 \nMEFA @ NAS – January – March 2025
URL:https://careersourcenortheastflorida.com/event/csnefl-military-spouse-family-employment-advocate-12/
LOCATION:Naval Air Station\, Yorktown Ave\, Bldg. 13 Classroom\, Jacksonville\, Florida\, 32212
CATEGORIES:Community and Hiring Events,CSNEFL Hosted Event,Job Seeker Event/Resources,Job Skills & Workshops
ATTACH;FMTTYPE=image/png:https://careersourcenortheastflorida.com/wp-content/uploads/2023/05/Banner-Template-2.png
END:VEVENT
BEGIN:VEVENT
DTSTART;TZID=America/New_York:20250210T100000
DTEND;TZID=America/New_York:20250210T130000
DTSTAMP:20260420T083008
CREATED:20250114T193159Z
LAST-MODIFIED:20250114T194223Z
UID:31826-1739181600-1739192400@careersourcenortheastflorida.com
SUMMARY:Military Spouse Monday at CareerSource NEFL Clay County Career Center
DESCRIPTION:CareerSource NEFL Military Spouse Family Employment Advocate\nPresents: Military Spouse Monday \nA social event for Military Spouse to educate and support Military Spouses and dependents as they explore and further understand themselves and career options\, gain valuable information\, develop as professionals\, and launch their career plan.   \nBy using our expertise\, experience\, and resources we will build relationships with military spouses and dependents by providing mutual support and helping them to build careers that lead to self-sufficiency\, by addressing significant barriers to employment and success stories. \nContact: Cecil Love at 904-924-1710 ext. 2444 or via email: clove@careersourcenefl.com \nMilitary Spouse Mondays February 2025 \n 
URL:https://careersourcenortheastflorida.com/event/military-spouse-monday-at-careersource-nefl-clay-county-career-center/
LOCATION:CareerSource NEFL Clay County Career Center\, 1845 Town Center Blvd.\, Suite 150\, Fleming Island\, FL\, 32003\, United States
CATEGORIES:CSNEFL Hosted Event,Job Seeker Event/Resources,Job Skills & Workshops
ATTACH;FMTTYPE=image/png:https://careersourcenortheastflorida.com/wp-content/uploads/2024/01/Military-Spouse-Monday-banner.png
END:VEVENT
BEGIN:VEVENT
DTSTART;TZID=America/New_York:20250217T100000
DTEND;TZID=America/New_York:20250217T130000
DTSTAMP:20260420T083008
CREATED:20250114T193843Z
LAST-MODIFIED:20250114T194218Z
UID:31828-1739786400-1739797200@careersourcenortheastflorida.com
SUMMARY:Military Spouse Monday at CareerSource NEFL Gateway Career Center
DESCRIPTION:CareerSource NEFL Military Spouse Family Employment Advocate\nPresents: Military Spouse Monday \nA social event for Military Spouse to educate and support Military Spouses and dependents as they explore and further understand themselves and career options\, gain valuable information\, develop as professionals\, and launch their career plan.   \nBy using our expertise\, experience\, and resources we will build relationships with military spouses and dependents by providing mutual support and helping them to build careers that lead to self-sufficiency\, by addressing significant barriers to employment and success stories. \nContact: Cecil Love at 904-924-1710 ext. 2444 or via email: clove@careersourcenefl.com \nMilitary Spouse Mondays February 2025
URL:https://careersourcenortheastflorida.com/event/military-spouse-monday-at-careersource-nefl-gateway-career-center-3/
LOCATION:CareerSource NEFL Gateway Career Center\, 5000 Norwood Avenue\, Suite 2\, Jacksonville\, FL\, 32208\, United States
CATEGORIES:CSNEFL Hosted Event,Job Seeker Event/Resources,Job Skills & Workshops
ATTACH;FMTTYPE=image/png:https://careersourcenortheastflorida.com/wp-content/uploads/2024/01/Military-Spouse-Monday-banner.png
END:VEVENT
BEGIN:VEVENT
DTSTART;TZID=America/New_York:20250218T100000
DTEND;TZID=America/New_York:20250218T150000
DTSTAMP:20260420T083008
CREATED:20250109T194005Z
LAST-MODIFIED:20250109T203755Z
UID:31772-1739872800-1739890800@careersourcenortheastflorida.com
SUMMARY:CSNEFL Military Spouse Family Employment Advocate
DESCRIPTION:Join the CareerSource Northeast Florida Military Spouse Family Employment Advocate for a chat. \nTopic: Job listing from Employ Florida (www.employflorida.com) \nContact Cecil Love 904-924-1710 ext.2444 or via email: clove@careersourcenefl.com \nLocation: Naval Air Station Yorktown Ave\, Bldg. 13 Classroom Jacksonville\, FL 32212 \nMEFA @ NAS – January – March 2025 \n 
URL:https://careersourcenortheastflorida.com/event/csnefl-military-spouse-family-employment-advocate-17/
LOCATION:Naval Air Station\, Yorktown Ave\, Bldg. 13 Classroom\, Jacksonville\, Florida\, 32212
CATEGORIES:Community and Hiring Events,CSNEFL Hosted Event,Job Seeker Event/Resources,Job Skills & Workshops
ATTACH;FMTTYPE=image/png:https://careersourcenortheastflorida.com/wp-content/uploads/2023/05/Banner-Template-2.png
END:VEVENT
BEGIN:VEVENT
DTSTART;TZID=America/New_York:20250218T101500
DTEND;TZID=America/New_York:20250218T120000
DTSTAMP:20260420T083008
CREATED:20250203T160022Z
LAST-MODIFIED:20250203T172217Z
UID:31976-1739873700-1739880000@careersourcenortheastflorida.com
SUMMARY:CareerSource NEFL Professional Network ZOOM Meeting
DESCRIPTION:Topic: How to Communicate Your Transferable Skills to a Different Industry \nLed by: Tiffani Bibb CEO\, The Office Informant\, PHR \nJoin us and learn: \n\nHow to showcase your technical skills as you move from one industry to another.\nStrategies that will help you stand out from your competition.\nHow your unique background makes you the ideal candidate for the position. \n\nRegister Today: https://bit.ly/CSPN021825 \nTransferable skills are crucial in today’s evolving job market\, where hiring managers value versatility.  Employers seek candidates who can adapt and take on a variety of responsibilities. If you’re seeking new ways to market yourself in today’s economy\, attending this presentation (via zoom) is for you. \nThe CareerSource Northeast Florida Professional Network offers career transition assistance to professional job seekers through networking\, workshops\, and business partnerships. Meetings are held monthly. Members are professionals with 4-year degrees and/or management- level experience\, seeking full- time employment. \nRequirements to attend: \n\nJob seekers must be registered in www.employflorida.com\nReservations required. The password or URL Link will be sent to all who register before the meeting.\n\nFor questions:cspn@careersourcenefl.com \nCSNEFL-PN 021825
URL:https://careersourcenortheastflorida.com/event/careersource-nefl-professional-network-zoom-meeting-17/
LOCATION:Zoom
CATEGORIES:Job Seeker Event/Resources,Job Skills & Workshops
ATTACH;FMTTYPE=image/png:https://careersourcenortheastflorida.com/wp-content/uploads/2024/09/Copy-of-Orange-1-Eventbrite-TEMPLATE-1.png
END:VEVENT
BEGIN:VEVENT
DTSTART;TZID=America/New_York:20250221T103000
DTEND;TZID=America/New_York:20250221T120000
DTSTAMP:20260420T083008
CREATED:20250108T165758Z
LAST-MODIFIED:20250109T194719Z
UID:31761-1740133800-1740139200@careersourcenortheastflorida.com
SUMMARY:Savvy Job Hunters Virtual Workshop
DESCRIPTION:The Savvy Job Hunters Ministry of Christ Episcopal Church will host a free virtual workshop\, “Must-Have Interviewing Tips”\, February 21\, 2025\, from 10:30 a.m. to 12:00 p.m.\nLearn Interviewing Pointers to Get You Started\, Preparing Yourself for the Interview\, Your Quiver of Arrows\, Twenty Interview Questions\, and more. The workshop will be presented by Buddy Webster\, Partner\, LEADERS Professional Recruiting\, Inc. \nEmail Pam Ottesen at pottesen66@gmail.com and receive the Zoom meeting link. \nPam Ottesen\npottesen66@gmail.com\nSavvy Job Hunters Ministry\nChrist Episcopal Church\, Ponte Vedra Beach\, FL\nccpvb.org
URL:https://careersourcenortheastflorida.com/event/savvy-job-hunters-virtual-workshop-3/
LOCATION:Zoom
CATEGORIES:Job Seeker Event/Resources,Job Skills & Workshops
ATTACH;FMTTYPE=image/png:https://careersourcenortheastflorida.com/wp-content/uploads/2024/01/Savvy-Job-Hunters-Virtual-workshop-banner.png
ORGANIZER;CN="Savvy Job Hunters Ministry":MAILTO:pottesen66@gmail.com
END:VEVENT
END:VCALENDAR