BEGIN:VCALENDAR
VERSION:2.0
PRODID:-//CareerSource NEFL - ECPv6.15.20//NONSGML v1.0//EN
CALSCALE:GREGORIAN
METHOD:PUBLISH
X-WR-CALNAME:CareerSource NEFL
X-ORIGINAL-URL:https://careersourcenortheastflorida.com
X-WR-CALDESC:Events for CareerSource NEFL
REFRESH-INTERVAL;VALUE=DURATION:PT1H
X-Robots-Tag:noindex
X-PUBLISHED-TTL:PT1H
BEGIN:VTIMEZONE
TZID:America/New_York
BEGIN:DAYLIGHT
TZOFFSETFROM:-0500
TZOFFSETTO:-0400
TZNAME:EDT
DTSTART:20250309T070000
END:DAYLIGHT
BEGIN:STANDARD
TZOFFSETFROM:-0400
TZOFFSETTO:-0500
TZNAME:EST
DTSTART:20251102T060000
END:STANDARD
BEGIN:DAYLIGHT
TZOFFSETFROM:-0500
TZOFFSETTO:-0400
TZNAME:EDT
DTSTART:20260308T070000
END:DAYLIGHT
BEGIN:STANDARD
TZOFFSETFROM:-0400
TZOFFSETTO:-0500
TZNAME:EST
DTSTART:20261101T060000
END:STANDARD
BEGIN:DAYLIGHT
TZOFFSETFROM:-0500
TZOFFSETTO:-0400
TZNAME:EDT
DTSTART:20270314T070000
END:DAYLIGHT
BEGIN:STANDARD
TZOFFSETFROM:-0400
TZOFFSETTO:-0500
TZNAME:EST
DTSTART:20271107T060000
END:STANDARD
END:VTIMEZONE
BEGIN:VEVENT
DTSTART;TZID=America/New_York:20260108T100000
DTEND;TZID=America/New_York:20260108T110000
DTSTAMP:20260419T093104
CREATED:20251216T142619Z
LAST-MODIFIED:20251216T142619Z
UID:34029-1767866400-1767870000@careersourcenortheastflorida.com
SUMMARY:Military Sealift Command is Hosting an In-Person Recruitment Event at CareerSource NEFL Southside Career Center!
DESCRIPTION:Join us for the Military Sealift Command is Hosting an In-Person Recruitment Event at CareerSource NEFL Southside Career Center! \nPositions Available:\nJob order #12510683 Chief Cook 26-822-01EXOC\nJob order #12510684 Cook Baker 26-842-01EXOC\nJob order #12510685 Electronics Technician – 26-335-01EXOC\nJob order #12510717 Able Seaman (Maintenance) \nThursday\, 8 January 2025\nTwo Sessions: 10am to 11am \nJoseph Thornton \nCareerSource NEFL\n(904)977-3100 ext. 2051\njthornton@careersourcenefl.com \nMSC @ Southside 1.8.26 flyer
URL:https://careersourcenortheastflorida.com/event/military-sealift-command-is-hosting-an-in-person-recruitment-event-at-careersource-nefl-southside-career-center/
LOCATION:CareerSource NEFL Southside Career Center\, 11268 Beach Blvd.\, Jacksonville\, FL\, 32246\, United States
CATEGORIES:Community and Hiring Events,CSNEFL Hosted Event,Job Seeker Event/Resources
ATTACH;FMTTYPE=image/png:https://careersourcenortheastflorida.com/wp-content/uploads/2024/03/Orange-2-Eventbrite-TEMPLATE-3.png
END:VEVENT
BEGIN:VEVENT
DTSTART;TZID=America/New_York:20260113T100000
DTEND;TZID=America/New_York:20260113T120000
DTSTAMP:20260419T093104
CREATED:20251223T153347Z
LAST-MODIFIED:20260106T153943Z
UID:34082-1768298400-1768305600@careersourcenortheastflorida.com
SUMMARY:Multi-Employer Recruitment Event at CSNEFL Gateway Career Center
DESCRIPTION:Join us for our Multi-Employer Recruitment Event at CSNEFL Gateway Career Center! \nBring your resume\, and let us help you polish it for success. Partner with CareerSource NEFL and take the next step in your job search today! \nOpen to all.  Veterans are encouraged to attend.  \nJob seekers can call for more information:  (904) 997-3100 \nCreate a profile and register in employflorida.com \nAramark\nFood Service Worker – Job order #12515453\nGroundskeeper – Job order #12515455 \nFirehouse Subs\nRestaurant General Manager – Job order #12515441\nTeam Member – Job order #12515438 \nMulti Employer Recruitment @ Gateway 1.13.26
URL:https://careersourcenortheastflorida.com/event/multi-employer-recruitment-event-at-csnefl-gateway-career-center-2/
LOCATION:CareerSource NEFL Gateway Career Center\, 5000 Norwood Avenue\, Suite 2\, Jacksonville\, FL\, 32208\, United States
CATEGORIES:Community and Hiring Events,CSNEFL Hosted Event,Job Seeker Event/Resources
ATTACH;FMTTYPE=image/png:https://careersourcenortheastflorida.com/wp-content/uploads/2024/03/Orange-2-Eventbrite-TEMPLATE-3.png
END:VEVENT
BEGIN:VEVENT
DTSTART;TZID=America/New_York:20260114T100000
DTEND;TZID=America/New_York:20260114T140000
DTSTAMP:20260419T093104
CREATED:20251215T133516Z
LAST-MODIFIED:20260107T133348Z
UID:34020-1768384800-1768399200@careersourcenortheastflorida.com
SUMMARY:The Agency for Persons with Disabilities Recruitment Fair - 2 days
DESCRIPTION:Join The Agency for Persons with Disabilities Recruitment Event! 2 Days Jan. 14 and Jan. 15\, 2026 \nThe Agency for Persons with Disabilities invites you to attend a two-day recruitment fair (10am – 2pm each day)\, where you can connect directly with employers who are seeking caring\, motivated professionals like you to help make a difference in the lives of individuals with disabilities. \nEvent location:\nAPD Northeast Building\n3631 Hodges Boulevard\nJacksonville\, FL 32224 \nEvent website: https://apd.myflorida.com/\nEvent Contact: Sandra Hill (904) 992-2426\nsandra.hill@apdcares.org \nJob Seeker Flyer_Jacksonville_Jan. 14 and 15
URL:https://careersourcenortheastflorida.com/event/the-agency-for-persons-with-disabilities-recruitment-fair/
LOCATION:APD Northeast Building\, 3631 Hodges Blvd.\, Jacksonville\, FL\, 32224\, United States
CATEGORIES:Community and Hiring Events
ATTACH;FMTTYPE=image/png:https://careersourcenortheastflorida.com/wp-content/uploads/2024/03/Orange-2-Eventbrite-TEMPLATE-3.png
ORGANIZER;CN="The Agency for Persons with Disabilities":MAILTO:sandra.hill@apdcares.org
END:VEVENT
BEGIN:VEVENT
DTSTART;TZID=America/New_York:20260115T100000
DTEND;TZID=America/New_York:20260115T120000
DTSTAMP:20260419T093104
CREATED:20251211T200209Z
LAST-MODIFIED:20251211T200209Z
UID:34015-1768471200-1768478400@careersourcenortheastflorida.com
SUMMARY:Multi-employer Recruitment at St. Johns County Career Center
DESCRIPTION:Join us for our Multi-Employer Recruitment at St. Johns County Career Center  \nBring your resume and connect with local employers.  \nDress to Impress! \nOpen to all. Veterans are encouraged to apply. \nMake sure to create a profile on employflorida.com \nEmployers and available positions\nSt. Johns Sheriff’s Office\nCorrections Deputy\nLaw Enforcement Deputy\nPublic Safety Telecommunicator II Trainee\nYouth Resource Deputy \nPutnam Sheriff’s Office\nCommunications Officer- 911 Emergency Dispatcher\nCorrections Deputy\nCorrections Recruit- Academy Sponsorship \nRing Power\nNarrow Aisle Sales Specialist – Lift Truck \nWounded Warrior Project\nStrategic Innovation & Integration Specialist\nMajor Gifts Officer – Jacksonville\, Florida (Remote or Hybrid)\nMarketing Coordinator – Business Development\nSuicide Prevention Support Specialist\nDonor Experience Coordinator \nMulti Employer Job Fair @ St. Johns 1.15.26 flyer
URL:https://careersourcenortheastflorida.com/event/multi-employer-recruitment-at-st-johns-county-career-center/
LOCATION:CareerSource NEFL St. Johns County Career Center\, 525 State Road 16\, Suite 109\, St. Augustine\, FL\, 32084\, United States
CATEGORIES:Community and Hiring Events,CSNEFL Hosted Event,Job Seeker Event/Resources
ATTACH;FMTTYPE=image/png:https://careersourcenortheastflorida.com/wp-content/uploads/2024/03/Orange-2-Eventbrite-TEMPLATE-3.png
END:VEVENT
BEGIN:VEVENT
DTSTART;TZID=America/New_York:20260115T100000
DTEND;TZID=America/New_York:20260115T140000
DTSTAMP:20260419T093104
CREATED:20251215T133915Z
LAST-MODIFIED:20260107T133250Z
UID:34025-1768471200-1768485600@careersourcenortheastflorida.com
SUMMARY:The Agency for Persons with Disabilities Recruitment Fair! - 2 days
DESCRIPTION:Join The Agency for Persons with Disabilities Recruitment Event! – Jan. 14 and Jan. 15\, 2026 \nThe Agency for Persons with Disabilities invites you to attend a two-day recruitment fair (10am – 2pm each day)\, where you can connect directly with employers who are seeking caring\, motivated professionals like you to help make a difference in the lives of individuals with disabilities. \nEvent location:\nAPD Northeast Building\n3631 Hodges Boulevard\nJacksonville\, FL 32224 \nEvent website: https://apd.myflorida.com/\nEvent Contact: Sandra Hill (904) 992-2426\nsandra.hill@apdcares.org \nJob Seeker Flyer_Jacksonville_Jan. 14 and 15
URL:https://careersourcenortheastflorida.com/event/the-agency-for-persons-with-disabilities-recruitment-fair-2/
LOCATION:APD Northeast Building\, 3631 Hodges Blvd.\, Jacksonville\, FL\, 32224\, United States
CATEGORIES:Community and Hiring Events
ATTACH;FMTTYPE=image/png:https://careersourcenortheastflorida.com/wp-content/uploads/2024/03/Orange-2-Eventbrite-TEMPLATE-3.png
ORGANIZER;CN="The Agency for Persons with Disabilities":MAILTO:sandra.hill@adpcares.org
END:VEVENT
BEGIN:VEVENT
DTSTART;TZID=America/New_York:20260120T100000
DTEND;TZID=America/New_York:20260120T120000
DTSTAMP:20260419T093104
CREATED:20251203T203419Z
LAST-MODIFIED:20251203T203419Z
UID:33961-1768903200-1768910400@careersourcenortheastflorida.com
SUMMARY:U.S. Customs and Border Protection Recruitment Event at Baker County Career Center
DESCRIPTION:Join us for U.S. Customs and Border Protection Recruitment Event at Baker County Career Center! \n\n\nBring your resume\, Partner with CareerSource NEFL and take the next step in your job search today! \nOpen to all. Veterans are encouraged to attend. \nPositions Available:\nJ.O. #12507018 Customs and Border Protection Officer\nJ.O. #12505039 Border Patrol Agent \n\n\n\n\n\n\n\n\nUS Customs & Border Control 1.20.26 flyer
URL:https://careersourcenortheastflorida.com/event/u-s-customs-and-border-protection-recruitment-event-at-baker-county-career-center-2/
LOCATION:CareerSource NEFL Baker County Career Center\, 1184 South 6th Street\, Macclenny\, FL\, 32063\, United States
CATEGORIES:Community and Hiring Events,CSNEFL Hosted Event,Job Seeker Event/Resources
ATTACH;FMTTYPE=image/png:https://careersourcenortheastflorida.com/wp-content/uploads/2024/03/Orange-2-Eventbrite-TEMPLATE-3.png
END:VEVENT
BEGIN:VEVENT
DTSTART;TZID=America/New_York:20260120T100000
DTEND;TZID=America/New_York:20260120T140000
DTSTAMP:20260419T093104
CREATED:20260106T150809Z
LAST-MODIFIED:20260108T203615Z
UID:34135-1768903200-1768917600@careersourcenortheastflorida.com
SUMMARY:Multi Employer In-Person Recruitment Event at CSNEFL Gateway Career Center
DESCRIPTION:Join Us for Multi Employer Recruitment Event at CSNEFL Gateway Career Center! \nBring your resume\, and let us help you polish it for success. Partner with CareerSource NEFL and take the next step in your job search today! \nOpen to all. Veterans are encouraged to apply. Jobseekers are encouraged to apply online prior to the event date to expedite the hiring process. \nJob seekers can call for more information:  (904) 997-3100 \nCreate a profile and register in employflorida.com \nPositions Available: \nAramark:\nFood Service Worker – EF Job Order #12515453\nGroundskeeper – EF Job Order #12515455\nBarista – EF Job Order #12516903\nGeneral Utility Worker – EF Job Order #12516910 \nStatewide Workforce Development:\nDispatcher –  EF Job Order #12517272\nRegional Safety Trainer – EF Job Order #12517314\nTraffic Control Flagger – EF Job Order #12517477\nWater Truck Driver – EF Job Order #12517487
URL:https://careersourcenortheastflorida.com/event/aramark-is-hosting-an-in-person-recruitment-event-at-careersource-nefl-gateway-career-center/
LOCATION:CareerSource NEFL Gateway Career Center\, 5000 Norwood Avenue\, Suite 2\, Jacksonville\, FL\, 32208\, United States
CATEGORIES:Community and Hiring Events,CSNEFL Hosted Event
END:VEVENT
BEGIN:VEVENT
DTSTART;TZID=America/New_York:20260122T100000
DTEND;TZID=America/New_York:20260122T120000
DTSTAMP:20260419T093104
CREATED:20260107T142204Z
LAST-MODIFIED:20260107T142204Z
UID:34147-1769076000-1769083200@careersourcenortheastflorida.com
SUMMARY:American In-Home In-Person Recruitment Event at CSNEFL Gateway Career Center
DESCRIPTION:Join Us for American In-Home In-Person Recruitment Event at CSNEFL Gateway Career Center. \nBring your resume\, and let us help you polish it for success. Partner with CareerSource NEFL and take the next step in your job search today! \nOpen to all.  Veterans are encouraged to attend.  \nJob seekers can call for more information:  (904) 997-3100 \nCreate a profile and register in employflorida.com \nPositions Available:\nCertified Nursing Assistants – EF Job Order #12517031\nHome Health Aides – EF Job Order #12517043\nLicensed Practical Nurses – EF Job Order #12517065\nRegistered Nurses – EF Job Order #12517130
URL:https://careersourcenortheastflorida.com/event/american-in-home-in-person-recruitment-event-at-csnefl-gateway-career-center/
LOCATION:CareerSource NEFL Gateway Career Center\, 5000 Norwood Avenue\, Suite 2\, Jacksonville\, FL\, 32208\, United States
CATEGORIES:Community and Hiring Events,CSNEFL Hosted Event,Job Seeker Event/Resources
END:VEVENT
BEGIN:VEVENT
DTSTART;TZID=America/New_York:20260122T100000
DTEND;TZID=America/New_York:20260122T130000
DTSTAMP:20260419T093104
CREATED:20260107T203812Z
LAST-MODIFIED:20260115T200713Z
UID:34166-1769076000-1769086800@careersourcenortheastflorida.com
SUMMARY:CareerSource NEFL Clay County Career Center Multi Employer Job Fair
DESCRIPTION:Join the CareerSource NEFL Clay County Multi Employer Job Fair. \nVeterans encouraged to attend. \nMultiple job opportunities in varying disciplines. \nKelly Educational Staffing\nJob Order #12510363 Custodians\nJob Order #12510371 Substitute Teacher & Teacher Assistants \nU.S. Customs and Border Protection\nJob Order #12505039 Border Patrol Agent \nClay County Sheriff’s Office\nJob Order #12445977 Detention Deputy FL Certified\nJob Order #12450257 Crossing Guard\nJob Order #12517139 Public Safety Telecommunicator \nJacksonville Fire Rescue Department\nJob Order #12496845 Firefighter 56 \nJacksonville Sheriff’s Office\nJob Order #12515493    Security Guard\nJob Order #12515033    Security Guard\nJob Order #12512596    Non-Certified Police Recruit\nJob Order #12517936    Certified Police Recruit
URL:https://careersourcenortheastflorida.com/event/careersource-nefl-clay-county-career-center-multi-employer-job-fair-5/
LOCATION:CareerSource NEFL Clay County Career Center\, 1845 Town Center Blvd.\, Suite 150\, Fleming Island\, FL\, 32003\, United States
CATEGORIES:Community and Hiring Events,CSNEFL Hosted Event
ATTACH;FMTTYPE=image/png:https://careersourcenortheastflorida.com/wp-content/uploads/2025/08/Clay-Multi-Event-generic.png
END:VEVENT
BEGIN:VEVENT
DTSTART;TZID=America/New_York:20260127T100000
DTEND;TZID=America/New_York:20260127T120000
DTSTAMP:20260419T093104
CREATED:20260113T162140Z
LAST-MODIFIED:20260113T162157Z
UID:34184-1769508000-1769515200@careersourcenortheastflorida.com
SUMMARY:Florida State Correctional Institutions Recruitment Event at Baker County Career Center
DESCRIPTION:Join us for our Florida State Correctional Institutions Recruitment Event at Baker County Career Center \nBring your resume and partner with CareerSource NEFL and take the next step in your job search today! \nOpen to all.  Veterans are encouraged to attend.  \nJob seekers create a profile on www.employflorida.com \nAvailable position:\nCorrectional Officer Job order #12453346 \nFL State Corrections @ Baker 1.27.26
URL:https://careersourcenortheastflorida.com/event/florida-state-correctional-institutions-recruitment-event-at-baker-county-career-center-3/
LOCATION:CareerSource NEFL Baker County Career Center\, 1184 South 6th Street\, Macclenny\, FL\, 32063\, United States
CATEGORIES:Community and Hiring Events,CSNEFL Hosted Event
ATTACH;FMTTYPE=image/png:https://careersourcenortheastflorida.com/wp-content/uploads/2024/03/Orange-2-Eventbrite-TEMPLATE-3.png
END:VEVENT
BEGIN:VEVENT
DTSTART;TZID=America/New_York:20260127T100000
DTEND;TZID=America/New_York:20260127T120000
DTSTAMP:20260419T093104
CREATED:20260121T164057Z
LAST-MODIFIED:20260121T190822Z
UID:34231-1769508000-1769515200@careersourcenortheastflorida.com
SUMMARY:Labor Finders Recruitment Event
DESCRIPTION:Labor Finders Recruitment Event at CSNEFL Putnam County Career Center! \nBring your resume\, and let us help you polish it for success. Partner with CareerSource NEFL and take the next step in your job search today! \nOpen to all.  Veterans are encouraged to attend.  \nJob seekers can call for more information:  (904) 997-3100 \nCreate a profile and register in employflorida.com \nPositions Available: \nE.F. Job order #12518960 – Material Handler \nLabor Finder Flyer Putnam 1.27.26 \n 
URL:https://careersourcenortheastflorida.com/event/labor-finders-recruitment-event/
LOCATION:CareerSource NEFL Putnam County Career Center\, 400 Highway 19 North\, Suite 93\, Palatka\, FL\, 32177\, United States
CATEGORIES:Community and Hiring Events,CSNEFL Hosted Event,Job Seeker Event/Resources
END:VEVENT
BEGIN:VEVENT
DTSTART;TZID=America/New_York:20260127T100000
DTEND;TZID=America/New_York:20260127T140000
DTSTAMP:20260419T093104
CREATED:20260107T140828Z
LAST-MODIFIED:20260107T141120Z
UID:34145-1769508000-1769522400@careersourcenortheastflorida.com
SUMMARY:Aramark is hosting an In-Person Recruitment Event at CSNEFL Gateway Career Center
DESCRIPTION:Join Us for Aramark’s Recruitment Event at CSNEFL Gateway Career Center! \nBring your resume\, and let us help you polish it for success. Partner with CareerSource NEFL and take the next step in your job search today! \nOpen to all.  Veterans are encouraged to attend.  \nJob seekers can call for more information:  (904) 997-3100 \nCreate a profile and register in employflorida.com \nPositions Available:\nFood Service Worker – EF Job Order #12515453\nGroundskeeper – EF Job Order #12515455\nBarista – EF Job Order #12516903\nGeneral Utility Worker – EF Job Order #12516910
URL:https://careersourcenortheastflorida.com/event/aramark-is-hosting-an-in-person-recruitment-event-at-csnefl-gateway-career-center/
LOCATION:CareerSource NEFL Gateway Career Center\, 5000 Norwood Avenue\, Suite 2\, Jacksonville\, FL\, 32208\, United States
CATEGORIES:Community and Hiring Events,CSNEFL Hosted Event
END:VEVENT
BEGIN:VEVENT
DTSTART;TZID=America/New_York:20260129T100000
DTEND;TZID=America/New_York:20260129T120000
DTSTAMP:20260419T093104
CREATED:20251222T163956Z
LAST-MODIFIED:20260128T122841Z
UID:34077-1769680800-1769688000@careersourcenortheastflorida.com
SUMMARY:Multi-Employer Recruitment at CSNEFL St Johns County Career Center
DESCRIPTION:Join Us for Our CSNEFL Multi-Employer Recruitment at St Johns County Career Center!  \n📄 Bring your resume\, and let us help you polish it for success. Partner with CareerSource NEFL and take the next step in your job search today! \nOpen to all.  Veterans are encouraged to attend.  \nJob seekers can call for more information:  (904) 997-3100 \nEmployers and available positions \n St. Johns Sheriff’s Office \nEF Job Order #12517411 – Corrections Deputy – 2026\nEF Job Order #12517414 – Inmate Communications Specialist\nEF Job Order #12517417 – School Crossing Guard \nPutnam Sheriff’s Office \nEF Job Order #12517422 – Communications Officer – 911 Emergency Dispatcher\nEF Job Order #12517423 – Corrections Deputy \nStaffing With Bliss \nEF Job Order #12516463 Certified Medical Assistant (CMA)\nEF Job Order #12516467 Voice Picker/Electric Pallet Jack\nEF Job Order #12516459 Customer Service Specialist (1st shift)\nEF Job Order #12516470 Cabinetry- Designer| Sales Direct hire\nEF Job Order #12516115 Wood Manufacturing Operator\nEF Job Order #12516065 Production Associate (1st Shift 7:00AM – 3:30PM)\nEF Job Order #12516075 Recruiter (Staffing with Bliss)\nEF Job Order #12516078 Gun Sales & Range Associate\nEF Job Order #12516079 Gun Sales & Range Associate (Direct Hire)\nEF Job Order #12516140 Shipping Coordinator \nEvent Contact: Maria Cunningham\nmcunningham@careersourcenefl.com \nMulti Employer Recruitment@ St. Johns 1.29.26
URL:https://careersourcenortheastflorida.com/event/multi-employer-recruitment-at-st-johns-county-career-center-2/
LOCATION:CareerSource NEFL St. Johns County Career Center\, 525 State Road 16\, Suite 109\, St. Augustine\, FL\, 32084\, United States
CATEGORIES:Community and Hiring Events,CSNEFL Hosted Event,Job Seeker Event/Resources
ATTACH;FMTTYPE=image/png:https://careersourcenortheastflorida.com/wp-content/uploads/2026/01/St-Johns-Multi-Employer-event-header.png
END:VEVENT
END:VCALENDAR